BEGIN:VCALENDAR
VERSION:2.0
PRODID:-//Franziska-Hager-Mittelschule - ECPv6.15.18//NONSGML v1.0//EN
CALSCALE:GREGORIAN
METHOD:PUBLISH
X-WR-CALNAME:Franziska-Hager-Mittelschule
X-ORIGINAL-URL:https://fhm-prien.de
X-WR-CALDESC:Veranstaltungen für Franziska-Hager-Mittelschule
REFRESH-INTERVAL;VALUE=DURATION:PT1H
X-Robots-Tag:noindex
X-PUBLISHED-TTL:PT1H
BEGIN:VTIMEZONE
TZID:Europe/Berlin
BEGIN:DAYLIGHT
TZOFFSETFROM:+0100
TZOFFSETTO:+0200
TZNAME:CEST
DTSTART:20240331T010000
END:DAYLIGHT
BEGIN:STANDARD
TZOFFSETFROM:+0200
TZOFFSETTO:+0100
TZNAME:CET
DTSTART:20241027T010000
END:STANDARD
BEGIN:DAYLIGHT
TZOFFSETFROM:+0100
TZOFFSETTO:+0200
TZNAME:CEST
DTSTART:20250330T010000
END:DAYLIGHT
BEGIN:STANDARD
TZOFFSETFROM:+0200
TZOFFSETTO:+0100
TZNAME:CET
DTSTART:20251026T010000
END:STANDARD
BEGIN:DAYLIGHT
TZOFFSETFROM:+0100
TZOFFSETTO:+0200
TZNAME:CEST
DTSTART:20260329T010000
END:DAYLIGHT
BEGIN:STANDARD
TZOFFSETFROM:+0200
TZOFFSETTO:+0100
TZNAME:CET
DTSTART:20261025T010000
END:STANDARD
END:VTIMEZONE
BEGIN:VEVENT
DTSTART;VALUE=DATE:20250602
DTEND;VALUE=DATE:20250603
DTSTAMP:20260420T150848
CREATED:20250324T073641Z
LAST-MODIFIED:20250324T073641Z
UID:9185-1748822400-1748908799@fhm-prien.de
SUMMARY:QA DaZ mündlich
DESCRIPTION:
URL:https://fhm-prien.de/event/qa-daz-muendlich/
END:VEVENT
BEGIN:VEVENT
DTSTART;VALUE=DATE:20250604
DTEND;VALUE=DATE:20250605
DTSTAMP:20260420T150848
CREATED:20250324T073725Z
LAST-MODIFIED:20250324T073725Z
UID:9187-1748995200-1749081599@fhm-prien.de
SUMMARY:QA Kunst / Musik / Informatik
DESCRIPTION:
URL:https://fhm-prien.de/event/qa-kunst-musik-informatik/
END:VEVENT
BEGIN:VEVENT
DTSTART;VALUE=DATE:20250609
DTEND;VALUE=DATE:20250610
DTSTAMP:20260420T150848
CREATED:20250113T081529Z
LAST-MODIFIED:20250113T081529Z
UID:9071-1749427200-1749513599@fhm-prien.de
SUMMARY:Pfingstmontag
DESCRIPTION:unterrichtsfrei
URL:https://fhm-prien.de/event/pfingstmontag/
END:VEVENT
BEGIN:VEVENT
DTSTART;VALUE=DATE:20250610
DTEND;VALUE=DATE:20250621
DTSTAMP:20260420T150848
CREATED:20250113T081604Z
LAST-MODIFIED:20250113T081604Z
UID:9073-1749513600-1750463999@fhm-prien.de
SUMMARY:Pfingstferien
DESCRIPTION:
URL:https://fhm-prien.de/event/pfingstferien-5/
END:VEVENT
BEGIN:VEVENT
DTSTART;VALUE=DATE:20250624
DTEND;VALUE=DATE:20250625
DTSTAMP:20260420T150848
CREATED:20250324T073759Z
LAST-MODIFIED:20250324T073759Z
UID:9189-1750723200-1750809599@fhm-prien.de
SUMMARY:MSA 10 Deutsch
DESCRIPTION:
URL:https://fhm-prien.de/event/msa-10-deutsch/
END:VEVENT
BEGIN:VEVENT
DTSTART;VALUE=DATE:20250624
DTEND;VALUE=DATE:20250625
DTSTAMP:20260420T150848
CREATED:20250324T073840Z
LAST-MODIFIED:20250324T073840Z
UID:9191-1750723200-1750809599@fhm-prien.de
SUMMARY:QA Sport / Ethik / Religion
DESCRIPTION:
URL:https://fhm-prien.de/event/qa-sport-ethik-religion/
END:VEVENT
BEGIN:VEVENT
DTSTART;VALUE=DATE:20250624
DTEND;VALUE=DATE:20250625
DTSTAMP:20260420T150848
CREATED:20250401T165526Z
LAST-MODIFIED:20250401T165526Z
UID:9222-1750723200-1750809599@fhm-prien.de
SUMMARY:theorieentlasteter Mittelschulabschluss (P-Klasse) - Deutsch
DESCRIPTION:
URL:https://fhm-prien.de/event/theorieentlasteter-mittelschulabschluss-p-klasse-deutsch/
END:VEVENT
BEGIN:VEVENT
DTSTART;VALUE=DATE:20250625
DTEND;VALUE=DATE:20250626
DTSTAMP:20260420T150848
CREATED:20250324T073932Z
LAST-MODIFIED:20250424T210655Z
UID:9193-1750809600-1750895999@fhm-prien.de
SUMMARY:MSA 10 Englisch
DESCRIPTION:
URL:https://fhm-prien.de/event/msa-englisch/
END:VEVENT
BEGIN:VEVENT
DTSTART;VALUE=DATE:20250625
DTEND;VALUE=DATE:20250626
DTSTAMP:20260420T150848
CREATED:20250401T165637Z
LAST-MODIFIED:20250401T165637Z
UID:9224-1750809600-1750895999@fhm-prien.de
SUMMARY:theorieentlasteter Mittelschulabschluss (P-Klasse) - Sachfach
DESCRIPTION:
URL:https://fhm-prien.de/event/theorieentlasteter-mittelschulabschluss-p-klasse-sachfach/
END:VEVENT
BEGIN:VEVENT
DTSTART;VALUE=DATE:20250626
DTEND;VALUE=DATE:20250627
DTSTAMP:20260420T150848
CREATED:20250324T073957Z
LAST-MODIFIED:20250424T210619Z
UID:9195-1750896000-1750982399@fhm-prien.de
SUMMARY:MSA 10 Mathe
DESCRIPTION:
URL:https://fhm-prien.de/event/msa-mathe/
END:VEVENT
BEGIN:VEVENT
DTSTART;VALUE=DATE:20250626
DTEND;VALUE=DATE:20250627
DTSTAMP:20260420T150848
CREATED:20250324T074029Z
LAST-MODIFIED:20250324T074029Z
UID:9197-1750896000-1750982399@fhm-prien.de
SUMMARY:QA GPG / NT
DESCRIPTION:
URL:https://fhm-prien.de/event/qa-gpg-nt/
END:VEVENT
BEGIN:VEVENT
DTSTART;VALUE=DATE:20250626
DTEND;VALUE=DATE:20250627
DTSTAMP:20260420T150848
CREATED:20250401T165715Z
LAST-MODIFIED:20250401T165715Z
UID:9226-1750896000-1750982399@fhm-prien.de
SUMMARY:theorieentlasteter Mittelschulabschluss (P-Klasse) - Mathe
DESCRIPTION:
URL:https://fhm-prien.de/event/theorieentlasteter-mittelschulabschluss-p-klasse-mathe/
END:VEVENT
BEGIN:VEVENT
DTSTART;VALUE=DATE:20250627
DTEND;VALUE=DATE:20250628
DTSTAMP:20260420T150848
CREATED:20250424T210809Z
LAST-MODIFIED:20250424T211039Z
UID:9265-1750982400-1751068799@fhm-prien.de
SUMMARY:QA Sport Praxis (Ausweichtermin)
DESCRIPTION:
URL:https://fhm-prien.de/event/qa-sport-praxis-ausweichtermin/
END:VEVENT
BEGIN:VEVENT
DTSTART;VALUE=DATE:20250630
DTEND;VALUE=DATE:20250701
DTSTAMP:20260420T150848
CREATED:20250324T074129Z
LAST-MODIFIED:20250324T074129Z
UID:9199-1751241600-1751327999@fhm-prien.de
SUMMARY:QA Englisch schriftlich
DESCRIPTION:
URL:https://fhm-prien.de/event/qa-englisch-schriftlich/
END:VEVENT
BEGIN:VEVENT
DTSTART;VALUE=DATE:20250630
DTEND;VALUE=DATE:20250705
DTSTAMP:20260420T150848
CREATED:20250324T072745Z
LAST-MODIFIED:20250324T072745Z
UID:9177-1751241600-1751673599@fhm-prien.de
SUMMARY:3. Betriebspraktikum 8. Klassen
DESCRIPTION:
URL:https://fhm-prien.de/event/3-betriebspraktikum-8-klassen/
END:VEVENT
END:VCALENDAR